BEGIN:VCALENDAR
VERSION:2.0
PRODID:-//Plone.org//NONSGML plone.app.event//EN
X-WR-TIMEZONE:Europe/Brussels
BEGIN:VEVENT
SUMMARY:HARRY POTTER AU BOIS-DU-LUC
DTSTART;VALUE=DATE:20240629
DTEND;VALUE=DATE:20240630
DTSTAMP:20260425T002558Z
UID:180148d05c794687b94260b832e4a3a5@boisdulucmmdd.be
CREATED:20240608T075638Z
LAST-MODIFIED:20240703T115126Z
URL:https://boisdulucmmdd.be/fr/activites/evenements/passes/harry-potter-a
 u-bois-du-luc
END:VEVENT
END:VCALENDAR
